Package: MSstatsConvert Version: 1.17.1 Command: /Library/Frameworks/R.framework/Resources/bin/R CMD INSTALL MSstatsConvert StartedAt: 2025-02-09 15:06:44 -0500 (Sun, 09 Feb 2025) EndedAt: 2025-02-09 15:07:13 -0500 (Sun, 09 Feb 2025) EllapsedTime: 28.4 seconds RetCode: 0 Status: OK