Package: MSstatsConvert Version: 1.17.1 Command: /home/biocbuild/bbs-3.21-bioc/R/bin/R CMD build --keep-empty-dirs --no-resave-data MSstatsConvert StartedAt: 2025-02-12 18:15:24 -0500 (Wed, 12 Feb 2025) EndedAt: 2025-02-12 18:15:32 -0500 (Wed, 12 Feb 2025) EllapsedTime: 8.0 seconds RetCode: 0 Status: OK PackageFile: MSstatsConvert_1.17.1.tar.gz PackageFileSize: 1.802 MiB