Package: MSstatsConvert Version: 1.17.1 Command: /home/biocbuild/bbs-3.21-bioc/R/bin/R CMD check --install=check:MSstatsConvert.install-out.txt --library=/home/biocbuild/bbs-3.21-bioc/R/site-library --timings MSstatsConvert_1.17.1.tar.gz StartedAt: 2025-02-10 00:34:11 -0500 (Mon, 10 Feb 2025) EndedAt: 2025-02-10 00:34:44 -0500 (Mon, 10 Feb 2025) EllapsedTime: 33.0 seconds RetCode: 0 Status: WARNINGS CheckDir: MSstatsConvert.Rcheck Warnings: 3