Package: MSstatsConvert Version: 1.17.1 Command: /home/biocbuild/bbs-3.21-bioc/R/bin/R CMD INSTALL MSstatsConvert StartedAt: 2025-02-09 15:03:10 -0500 (Sun, 09 Feb 2025) EndedAt: 2025-02-09 15:03:20 -0500 (Sun, 09 Feb 2025) EllapsedTime: 10.9 seconds RetCode: 0 Status: OK