Package: MSstatsQCgui Version: 1.27.0 Command: rm -rf MSstatsQCgui.buildbin-libdir && mkdir MSstatsQCgui.buildbin-libdir && /Users/biocbuild/BBS/utils/build-universal.sh MSstatsQCgui_1.27.0.tar.gz /Library/Frameworks/R.framework/Resources/bin/R MSstatsQCgui.buildbin-libdir StartedAt: 2025-02-09 22:22:45 -0500 (Sun, 09 Feb 2025) EndedAt: 2025-02-09 22:23:02 -0500 (Sun, 09 Feb 2025) EllapsedTime: 16.3 seconds RetCode: 0 Status: OK PackageFile: MSstatsQCgui_1.27.0.tgz PackageFileSize: 85.6 KiB