Package: MSstatsQCgui Version: 1.27.0 Command: /Library/Frameworks/R.framework/Resources/bin/R CMD INSTALL MSstatsQCgui StartedAt: 2025-02-09 15:18:58 -0500 (Sun, 09 Feb 2025) EndedAt: 2025-02-09 15:19:12 -0500 (Sun, 09 Feb 2025) EllapsedTime: 14.9 seconds RetCode: 0 Status: OK