Package: MSstatsQCgui Version: 1.27.0 Command: /home/biocbuild/R/R/bin/R CMD build --keep-empty-dirs --no-resave-data MSstatsQCgui StartedAt: 2025-01-29 00:43:09 -0000 (Wed, 29 Jan 2025) EndedAt: 2025-01-29 00:44:01 -0000 (Wed, 29 Jan 2025) EllapsedTime: 52.0 seconds RetCode: 0 Status: OK PackageFile: MSstatsQCgui_1.27.0.tar.gz PackageFileSize: 75.96 KiB