Package: MSstatsQCgui Version: 1.27.0 Command: /Library/Frameworks/R.framework/Resources/bin/R CMD check --install=check:MSstatsQCgui.install-out.txt --library=/Library/Frameworks/R.framework/Resources/library --no-vignettes --timings MSstatsQCgui_1.27.0.tar.gz StartedAt: 2025-02-09 22:11:58 -0500 (Sun, 09 Feb 2025) EndedAt: 2025-02-09 22:16:28 -0500 (Sun, 09 Feb 2025) EllapsedTime: 269.6 seconds RetCode: 0 Status: OK CheckDir: MSstatsQCgui.Rcheck Warnings: 0