Package: MSstatsQCgui Version: 1.27.0 Command: /home/biocbuild/bbs-3.21-bioc/R/bin/R CMD build --keep-empty-dirs --no-resave-data MSstatsQCgui StartedAt: 2025-02-09 18:19:54 -0500 (Sun, 09 Feb 2025) EndedAt: 2025-02-09 18:20:32 -0500 (Sun, 09 Feb 2025) EllapsedTime: 38.0 seconds RetCode: 0 Status: OK PackageFile: MSstatsQCgui_1.27.0.tar.gz PackageFileSize: 75.48 KiB