Package: MSstatsQCgui Version: 1.27.0 Command: /home/biocbuild/bbs-3.21-bioc/R/bin/R CMD check --install=check:MSstatsQCgui.install-out.txt --library=/home/biocbuild/bbs-3.21-bioc/R/site-library --timings MSstatsQCgui_1.27.0.tar.gz StartedAt: 2025-02-10 00:34:54 -0500 (Mon, 10 Feb 2025) EndedAt: 2025-02-10 00:39:12 -0500 (Mon, 10 Feb 2025) EllapsedTime: 258.3 seconds RetCode: 0 Status: OK CheckDir: MSstatsQCgui.Rcheck Warnings: 0