Package: MSstatsQCgui Version: 1.27.0 Command: E:\biocbuild\bbs-3.21-bioc\R\bin\R.exe CMD check --no-multiarch --install=check:MSstatsQCgui.install-out.txt --library=E:\biocbuild\bbs-3.21-bioc\R\library --no-vignettes --timings MSstatsQCgui_1.27.0.tar.gz StartedAt: 2025-02-10 03:22:51 -0500 (Mon, 10 Feb 2025) EndedAt: 2025-02-10 03:27:34 -0500 (Mon, 10 Feb 2025) EllapsedTime: 283.0 seconds RetCode: 0 Status: OK CheckDir: MSstatsQCgui.Rcheck Warnings: 0