Package: MSstatsQCgui Version: 1.27.0 Command: E:\biocbuild\bbs-3.21-bioc\R\bin\R.exe CMD INSTALL MSstatsQCgui StartedAt: 2025-02-04 16:20:24 -0500 (Tue, 04 Feb 2025) EndedAt: 2025-02-04 16:21:04 -0500 (Tue, 04 Feb 2025) EllapsedTime: 40.1 seconds RetCode: 0 Status: OK