Package: MSstatsTMT Version: 2.15.1 Command: rm -rf MSstatsTMT.buildbin-libdir && mkdir MSstatsTMT.buildbin-libdir && /Users/biocbuild/BBS/utils/build-universal.sh MSstatsTMT_2.15.1.tar.gz /Library/Frameworks/R.framework/Resources/bin/R MSstatsTMT.buildbin-libdir StartedAt: 2025-02-04 22:24:36 -0500 (Tue, 04 Feb 2025) EndedAt: 2025-02-04 22:24:42 -0500 (Tue, 04 Feb 2025) EllapsedTime: 6.1 seconds RetCode: 0 Status: OK PackageFile: MSstatsTMT_2.15.1.tgz PackageFileSize: 1.91 MiB