Package: MSstatsTMT Version: 2.15.1 Command: /Library/Frameworks/R.framework/Resources/bin/R CMD INSTALL MSstatsTMT StartedAt: 2025-02-04 15:20:41 -0500 (Tue, 04 Feb 2025) EndedAt: 2025-02-04 15:20:46 -0500 (Tue, 04 Feb 2025) EllapsedTime: 4.5 seconds RetCode: 0 Status: OK