Package: MSstatsTMT Version: 2.15.1 Command: rm -rf MSstatsTMT.buildbin-libdir && mkdir MSstatsTMT.buildbin-libdir && /Users/biocbuild/BBS/utils/build-universal.sh MSstatsTMT_2.15.1.tar.gz /Library/Frameworks/R.framework/Resources/bin/R MSstatsTMT.buildbin-libdir StartedAt: 2025-02-10 01:04:56 -0500 (Mon, 10 Feb 2025) EndedAt: 2025-02-10 01:05:17 -0500 (Mon, 10 Feb 2025) EllapsedTime: 20.8 seconds RetCode: 0 Status: OK PackageFile: MSstatsTMT_2.15.1.tgz PackageFileSize: 1.903 MiB