Package: MSstatsTMT Version: 2.15.1 Command: /home/biocbuild/bbs-3.21-bioc/R/bin/R CMD check --install=check:MSstatsTMT.install-out.txt --library=/home/biocbuild/bbs-3.21-bioc/R/site-library --timings MSstatsTMT_2.15.1.tar.gz StartedAt: 2025-02-05 00:42:42 -0500 (Wed, 05 Feb 2025) EndedAt: 2025-02-05 00:45:43 -0500 (Wed, 05 Feb 2025) EllapsedTime: 180.1 seconds RetCode: 0 Status: OK CheckDir: MSstatsTMT.Rcheck Warnings: 0