Package: MSstatsTMT Version: 2.15.1 Command: rm -rf MSstatsTMT.buildbin-libdir && mkdir MSstatsTMT.buildbin-libdir && E:\biocbuild\bbs-3.21-bioc\R\bin\R.exe CMD INSTALL --build --library=MSstatsTMT.buildbin-libdir MSstatsTMT_2.15.1.tar.gz StartedAt: 2025-02-10 08:14:24 -0500 (Mon, 10 Feb 2025) EndedAt: 2025-02-10 08:15:07 -0500 (Mon, 10 Feb 2025) EllapsedTime: 42.7 seconds RetCode: 0 Status: OK PackageFile: MSstatsTMT_2.15.1.zip PackageFileSize: 1.91 MiB