Package: MSstatsTMT Version: 2.15.1 Command: chmod a+r MSstatsTMT -R && E:\biocbuild\bbs-3.21-bioc\R\bin\R.exe CMD build --keep-empty-dirs --no-resave-data MSstatsTMT StartedAt: 2025-02-03 20:24:48 -0500 (Mon, 03 Feb 2025) EndedAt: 2025-02-03 20:26:08 -0500 (Mon, 03 Feb 2025) EllapsedTime: 79.9 seconds RetCode: 0 Status: OK PackageFile: MSstatsTMT_2.15.1.tar.gz PackageFileSize: 1.531 MiB