Package: MSstatsTMT Version: 2.15.1 Command: E:\biocbuild\bbs-3.21-bioc\R\bin\R.exe CMD check --no-multiarch --install=check:MSstatsTMT.install-out.txt --library=E:\biocbuild\bbs-3.21-bioc\R\library --no-vignettes --timings MSstatsTMT_2.15.1.tar.gz StartedAt: 2025-02-04 03:51:12 -0500 (Tue, 04 Feb 2025) EndedAt: 2025-02-04 03:54:10 -0500 (Tue, 04 Feb 2025) EllapsedTime: 177.6 seconds RetCode: 0 Status: OK CheckDir: MSstatsTMT.Rcheck Warnings: 0