Package: MSstatsTMT Version: 2.15.1 Command: E:\biocbuild\bbs-3.21-bioc\R\bin\R.exe CMD INSTALL MSstatsTMT StartedAt: 2025-02-09 15:59:13 -0500 (Sun, 09 Feb 2025) EndedAt: 2025-02-09 16:00:02 -0500 (Sun, 09 Feb 2025) EllapsedTime: 49.6 seconds RetCode: 0 Status: OK