Package: MVCClass Version: 1.81.0 Command: /home/biocbuild/R/R/bin/R CMD build --keep-empty-dirs --no-resave-data MVCClass StartedAt: 2025-01-29 00:46:29 -0000 (Wed, 29 Jan 2025) EndedAt: 2025-01-29 00:46:37 -0000 (Wed, 29 Jan 2025) EllapsedTime: 8.0 seconds RetCode: 0 Status: OK PackageFile: MVCClass_1.81.0.tar.gz PackageFileSize: 1.028 MiB