Package: MVCClass Version: 1.81.0 Command: rm -rf MVCClass.buildbin-libdir && mkdir MVCClass.buildbin-libdir && E:\biocbuild\bbs-3.21-bioc\R\bin\R.exe CMD INSTALL --build --library=MVCClass.buildbin-libdir MVCClass_1.81.0.tar.gz StartedAt: 2025-02-10 08:15:50 -0500 (Mon, 10 Feb 2025) EndedAt: 2025-02-10 08:16:43 -0500 (Mon, 10 Feb 2025) EllapsedTime: 53.8 seconds RetCode: 0 Status: OK PackageFile: MVCClass_1.81.0.zip PackageFileSize: 1.234 MiB