Package: Maaslin2 Version: 1.21.0 Command: rm -rf Maaslin2.buildbin-libdir && mkdir Maaslin2.buildbin-libdir && /Users/biocbuild/BBS/utils/build-universal.sh Maaslin2_1.21.0.tar.gz /Library/Frameworks/R.framework/Resources/bin/R Maaslin2.buildbin-libdir StartedAt: 2025-02-09 22:19:28 -0500 (Sun, 09 Feb 2025) EndedAt: 2025-02-09 22:19:32 -0500 (Sun, 09 Feb 2025) EllapsedTime: 4.1 seconds RetCode: 0 Status: OK PackageFile: Maaslin2_1.21.0.tgz PackageFileSize: 615.1 KiB