Package: Maaslin2 Version: 1.21.0 Command: /Library/Frameworks/R.framework/Resources/bin/R CMD build --keep-empty-dirs --no-resave-data Maaslin2 StartedAt: 2025-02-12 16:47:21 -0500 (Wed, 12 Feb 2025) EndedAt: 2025-02-12 16:48:00 -0500 (Wed, 12 Feb 2025) EllapsedTime: 38.4 seconds RetCode: 0 Status: OK PackageFile: Maaslin2_1.21.0.tar.gz PackageFileSize: 544.3 KiB