Package: Maaslin2 Version: 1.21.0 Command: rm -rf Maaslin2.buildbin-libdir && mkdir Maaslin2.buildbin-libdir && /Users/biocbuild/BBS/utils/build-universal.sh Maaslin2_1.21.0.tar.gz /Library/Frameworks/R.framework/Resources/bin/R Maaslin2.buildbin-libdir StartedAt: 2025-02-13 00:43:37 -0500 (Thu, 13 Feb 2025) EndedAt: 2025-02-13 00:43:52 -0500 (Thu, 13 Feb 2025) EllapsedTime: 15.2 seconds RetCode: 0 Status: OK PackageFile: Maaslin2_1.21.0.tgz PackageFileSize: 614.8 KiB