Package: Maaslin2 Version: 1.21.0 Command: /Library/Frameworks/R.framework/Resources/bin/R CMD build --keep-empty-dirs --no-resave-data Maaslin2 StartedAt: 2025-02-09 17:16:45 -0500 (Sun, 09 Feb 2025) EndedAt: 2025-02-09 17:18:45 -0500 (Sun, 09 Feb 2025) EllapsedTime: 120.1 seconds RetCode: 0 Status: OK PackageFile: Maaslin2_1.21.0.tar.gz PackageFileSize: 544.1 KiB