Package: Maaslin2 Version: 1.21.0 Command: /Library/Frameworks/R.framework/Resources/bin/R CMD INSTALL Maaslin2 StartedAt: 2025-02-12 15:32:14 -0500 (Wed, 12 Feb 2025) EndedAt: 2025-02-12 15:32:26 -0500 (Wed, 12 Feb 2025) EllapsedTime: 12.2 seconds RetCode: 0 Status: OK