Package: Maaslin2 Version: 1.21.0 Command: /home/biocbuild/bbs-3.21-bioc/R/bin/R CMD build --keep-empty-dirs --no-resave-data Maaslin2 StartedAt: 2025-02-09 17:53:44 -0500 (Sun, 09 Feb 2025) EndedAt: 2025-02-09 17:55:31 -0500 (Sun, 09 Feb 2025) EllapsedTime: 107.1 seconds RetCode: 0 Status: OK PackageFile: Maaslin2_1.21.0.tar.gz PackageFileSize: 544.2 KiB