Package: Maaslin2 Version: 1.21.0 Command: chmod a+r Maaslin2 -R && E:\biocbuild\bbs-3.21-bioc\R\bin\R.exe CMD build --keep-empty-dirs --no-resave-data Maaslin2 StartedAt: 2025-02-12 19:41:17 -0500 (Wed, 12 Feb 2025) EndedAt: 2025-02-12 19:43:38 -0500 (Wed, 12 Feb 2025) EllapsedTime: 141.3 seconds RetCode: 0 Status: OK PackageFile: Maaslin2_1.21.0.tar.gz PackageFileSize: 544.2 KiB