Package: Macarron Version: 1.11.0 Command: /Library/Frameworks/R.framework/Resources/bin/R CMD build --keep-empty-dirs --no-resave-data Macarron StartedAt: 2025-02-12 17:13:34 -0500 (Wed, 12 Feb 2025) EndedAt: 2025-02-12 17:18:37 -0500 (Wed, 12 Feb 2025) EllapsedTime: 302.8 seconds RetCode: 0 Status: OK PackageFile: Macarron_1.11.0.tar.gz PackageFileSize: 591.2 KiB