Package: MassArray Version: 1.59.0 Command: /Library/Frameworks/R.framework/Resources/bin/R CMD INSTALL MassArray StartedAt: 2025-02-12 15:01:02 -0500 (Wed, 12 Feb 2025) EndedAt: 2025-02-12 15:01:07 -0500 (Wed, 12 Feb 2025) EllapsedTime: 5.2 seconds RetCode: 0 Status: OK