Package: MassArray Version: 1.59.0 Command: /home/biocbuild/bbs-3.21-bioc/R/bin/R CMD build --keep-empty-dirs --no-resave-data MassArray StartedAt: 2025-02-12 17:53:20 -0500 (Wed, 12 Feb 2025) EndedAt: 2025-02-12 17:53:44 -0500 (Wed, 12 Feb 2025) EllapsedTime: 24.0 seconds RetCode: 0 Status: OK PackageFile: MassArray_1.59.0.tar.gz PackageFileSize: 374.8 KiB