Package: MassArray Version: 1.59.0 Command: /home/biocbuild/bbs-3.21-bioc/R/bin/R CMD INSTALL MassArray StartedAt: 2025-02-09 15:02:57 -0500 (Sun, 09 Feb 2025) EndedAt: 2025-02-09 15:03:07 -0500 (Sun, 09 Feb 2025) EllapsedTime: 10.3 seconds RetCode: 0 Status: OK