Package: MassArray Version: 1.59.0 Command: E:\biocbuild\bbs-3.21-bioc\R\bin\R.exe CMD check --no-multiarch --install=check:MassArray.install-out.txt --library=E:\biocbuild\bbs-3.21-bioc\R\library --no-vignettes --timings MassArray_1.59.0.tar.gz StartedAt: 2025-02-13 02:43:12 -0500 (Thu, 13 Feb 2025) EndedAt: 2025-02-13 02:44:12 -0500 (Thu, 13 Feb 2025) EllapsedTime: 59.3 seconds RetCode: 0 Status: OK CheckDir: MassArray.Rcheck Warnings: 0