Package: MassSpecWavelet Version: 1.73.1 Command: /Library/Frameworks/R.framework/Resources/bin/R CMD check --install=check:MassSpecWavelet.install-out.txt --library=/Library/Frameworks/R.framework/Resources/library --no-vignettes --timings MassSpecWavelet_1.73.1.tar.gz StartedAt: 2025-02-09 19:55:50 -0500 (Sun, 09 Feb 2025) EndedAt: 2025-02-09 19:56:06 -0500 (Sun, 09 Feb 2025) EllapsedTime: 16.2 seconds RetCode: 0 Status: OK CheckDir: MassSpecWavelet.Rcheck Warnings: 0