Package: MassSpecWavelet Version: 1.73.1 Command: /home/biocbuild/bbs-3.21-bioc/R/bin/R CMD build --keep-empty-dirs --no-resave-data MassSpecWavelet StartedAt: 2025-02-12 17:53:30 -0500 (Wed, 12 Feb 2025) EndedAt: 2025-02-12 17:54:15 -0500 (Wed, 12 Feb 2025) EllapsedTime: 45.0 seconds RetCode: 0 Status: OK PackageFile: MassSpecWavelet_1.73.1.tar.gz PackageFileSize: 2.168 MiB