Package: MassSpecWavelet Version: 1.73.1 Command: /home/biocbuild/bbs-3.21-bioc/R/bin/R CMD INSTALL MassSpecWavelet StartedAt: 2025-02-09 15:02:36 -0500 (Sun, 09 Feb 2025) EndedAt: 2025-02-09 15:02:50 -0500 (Sun, 09 Feb 2025) EllapsedTime: 13.8 seconds RetCode: 0 Status: OK