Package: Melissa Version: 1.23.0 Command: /Library/Frameworks/R.framework/Resources/bin/R CMD build --keep-empty-dirs --no-resave-data Melissa StartedAt: 2025-02-09 16:50:23 -0500 (Sun, 09 Feb 2025) EndedAt: 2025-02-09 16:51:22 -0500 (Sun, 09 Feb 2025) EllapsedTime: 58.6 seconds RetCode: 0 Status: OK PackageFile: Melissa_1.23.0.tar.gz PackageFileSize: 2.883 MiB