Package: Melissa Version: 1.23.0 Command: /Library/Frameworks/R.framework/Resources/bin/R CMD check --install=check:Melissa.install-out.txt --library=/Library/Frameworks/R.framework/Resources/library --no-vignettes --timings Melissa_1.23.0.tar.gz StartedAt: 2025-02-09 19:58:50 -0500 (Sun, 09 Feb 2025) EndedAt: 2025-02-09 19:59:44 -0500 (Sun, 09 Feb 2025) EllapsedTime: 53.7 seconds RetCode: 0 Status: OK CheckDir: Melissa.Rcheck Warnings: 0