Package: Melissa Version: 1.23.0 Command: /home/biocbuild/R/R/bin/R CMD build --keep-empty-dirs --no-resave-data Melissa StartedAt: 2025-01-29 00:06:23 -0000 (Wed, 29 Jan 2025) EndedAt: 2025-01-29 00:10:47 -0000 (Wed, 29 Jan 2025) EllapsedTime: 264.1 seconds RetCode: 0 Status: OK PackageFile: Melissa_1.23.0.tar.gz PackageFileSize: 2.469 MiB