Package: Melissa Version: 1.23.0 Command: /home/biocbuild/R/R/bin/R CMD INSTALL Melissa StartedAt: 2025-01-29 20:17:07 -0000 (Wed, 29 Jan 2025) EndedAt: 2025-01-29 20:17:34 -0000 (Wed, 29 Jan 2025) EllapsedTime: 26.7 seconds RetCode: 0 Status: OK