Package: Melissa Version: 1.23.0 Command: /home/biocbuild/bbs-3.21-bioc/R/bin/R CMD build --keep-empty-dirs --no-resave-data Melissa StartedAt: 2025-02-09 17:59:18 -0500 (Sun, 09 Feb 2025) EndedAt: 2025-02-09 18:02:00 -0500 (Sun, 09 Feb 2025) EllapsedTime: 162.2 seconds RetCode: 0 Status: OK PackageFile: Melissa_1.23.0.tar.gz PackageFileSize: 2.792 MiB