Package: Melissa Version: 1.23.0 Command: rm -rf Melissa.buildbin-libdir && mkdir Melissa.buildbin-libdir && E:\biocbuild\bbs-3.21-bioc\R\bin\R.exe CMD INSTALL --build --library=Melissa.buildbin-libdir Melissa_1.23.0.tar.gz StartedAt: 2025-02-10 08:05:44 -0500 (Mon, 10 Feb 2025) EndedAt: 2025-02-10 08:06:21 -0500 (Mon, 10 Feb 2025) EllapsedTime: 36.9 seconds RetCode: 0 Status: OK PackageFile: Melissa_1.23.0.zip PackageFileSize: 3.693 MiB