Package: Melissa Version: 1.23.0 Command: chmod a+r Melissa -R && E:\biocbuild\bbs-3.21-bioc\R\bin\R.exe CMD build --keep-empty-dirs --no-resave-data Melissa StartedAt: 2025-02-09 19:44:00 -0500 (Sun, 09 Feb 2025) EndedAt: 2025-02-09 19:47:48 -0500 (Sun, 09 Feb 2025) EllapsedTime: 228.1 seconds RetCode: 0 Status: OK PackageFile: Melissa_1.23.0.tar.gz PackageFileSize: 2.196 MiB