Package: MesKit Version: 1.17.0 Command: /Library/Frameworks/R.framework/Resources/bin/R CMD INSTALL MesKit StartedAt: 2025-02-09 15:13:26 -0500 (Sun, 09 Feb 2025) EndedAt: 2025-02-09 15:13:35 -0500 (Sun, 09 Feb 2025) EllapsedTime: 8.9 seconds RetCode: 0 Status: OK