Package: MesKit Version: 1.17.0 Command: /home/biocbuild/bbs-3.21-bioc/R/bin/R CMD build --keep-empty-dirs --no-resave-data MesKit StartedAt: 2025-02-09 17:59:53 -0500 (Sun, 09 Feb 2025) EndedAt: 2025-02-09 18:01:22 -0500 (Sun, 09 Feb 2025) EllapsedTime: 89.1 seconds RetCode: 0 Status: OK PackageFile: MesKit_1.17.0.tar.gz PackageFileSize: 3.748 MiB