Package: MesKit Version: 1.17.0 Command: /home/biocbuild/bbs-3.21-bioc/R/bin/R CMD INSTALL MesKit StartedAt: 2025-02-12 15:29:51 -0500 (Wed, 12 Feb 2025) EndedAt: 2025-02-12 15:30:12 -0500 (Wed, 12 Feb 2025) EllapsedTime: 21.3 seconds RetCode: 0 Status: OK