Package: MetID Version: 1.25.0 Command: E:\biocbuild\bbs-3.21-bioc\R\bin\R.exe CMD check --no-multiarch --install=check:MetID.install-out.txt --library=E:\biocbuild\bbs-3.21-bioc\R\library --no-vignettes --timings MetID_1.25.0.tar.gz StartedAt: 2025-02-10 02:51:22 -0500 (Mon, 10 Feb 2025) EndedAt: 2025-02-10 02:53:02 -0500 (Mon, 10 Feb 2025) EllapsedTime: 99.9 seconds RetCode: 0 Status: OK CheckDir: MetID.Rcheck Warnings: 0