Package: MetMashR Version: 1.1.0 Command: /Library/Frameworks/R.framework/Resources/bin/R CMD build --keep-empty-dirs --no-resave-data MetMashR StartedAt: 2025-02-09 16:54:51 -0500 (Sun, 09 Feb 2025) EndedAt: 2025-02-09 16:57:01 -0500 (Sun, 09 Feb 2025) EllapsedTime: 129.5 seconds RetCode: 1 Status: ERROR PackageFile: None PackageFileSize: NA