Package: MetMashR Version: 1.1.0 Command: /home/biocbuild/R/R/bin/R CMD build --keep-empty-dirs --no-resave-data MetMashR StartedAt: 2025-01-29 00:16:54 -0000 (Wed, 29 Jan 2025) EndedAt: 2025-01-29 00:23:53 -0000 (Wed, 29 Jan 2025) EllapsedTime: 419.2 seconds RetCode: 1 Status: ERROR PackageFile: None PackageFileSize: NA